BEGIN:VCALENDAR
VERSION:2.0
PRODID:-//Shucker&#039;s Oyster Bar - ECPv6.15.20//NONSGML v1.0//EN
CALSCALE:GREGORIAN
METHOD:PUBLISH
X-WR-CALNAME:Shucker&#039;s Oyster Bar
X-ORIGINAL-URL:https://shuckersrez.com
X-WR-CALDESC:Events for Shucker&#039;s Oyster Bar
REFRESH-INTERVAL;VALUE=DURATION:PT1H
X-Robots-Tag:noindex
X-PUBLISHED-TTL:PT1H
BEGIN:VTIMEZONE
TZID:UTC
BEGIN:STANDARD
TZOFFSETFROM:+0000
TZOFFSETTO:+0000
TZNAME:UTC
DTSTART:20250101T000000
END:STANDARD
END:VTIMEZONE
BEGIN:VEVENT
DTSTART;TZID=UTC:20260425T203000
DTEND;TZID=UTC:20260426T013000
DTSTAMP:20260420T132327
CREATED:20260413T010702Z
LAST-MODIFIED:20260414T100246Z
UID:4833-1777149000-1777167000@shuckersrez.com
SUMMARY:Live Music Featuring Logan Hogue
DESCRIPTION:Are you ready for a Fantastic Saturday? \nCome early and bring your friends! Enjoy great food and have your favorite drink at Mississippi’s best oysters\, best live music venue and a place to dance – at Shuckers Oyster Bar! \nHeadliner: Locan Hogue\nGenre: Variety of Great Music
URL:https://shuckersrez.com/event/live-music-featuring-logan-hogue-8/
ATTACH;FMTTYPE=image/jpeg:https://shuckersrez.com/wp-content/uploads/2026/04/04252026-Logan-Hogue.jpg
END:VEVENT
BEGIN:VEVENT
DTSTART;TZID=UTC:20260425T220000
DTEND;TZID=UTC:20260426T020000
DTSTAMP:20260420T132327
CREATED:20260413T010741Z
LAST-MODIFIED:20260414T100310Z
UID:4835-1777154400-1777168800@shuckersrez.com
SUMMARY:Live Music Featuring Don Grant
DESCRIPTION:Are you ready for a Fantastic Saturday? \nCome early and bring your friends! Enjoy great food and have your favorite drink at Mississippi’s best oysters\, best live music venue and a place to dance – at Shuckers Oyster Bar! \nHeadliner: Don Grant\nGenre: Variety of Great Music
URL:https://shuckersrez.com/event/live-music-featuring-don-grant-66/
ATTACH;FMTTYPE=image/jpeg:https://shuckersrez.com/wp-content/uploads/2026/04/04252026-Don-Grant.jpg
END:VEVENT
BEGIN:VEVENT
DTSTART;TZID=UTC:20260426T160000
DTEND;TZID=UTC:20260426T200000
DTSTAMP:20260420T132327
CREATED:20260413T014934Z
LAST-MODIFIED:20260414T100325Z
UID:4843-1777219200-1777233600@shuckersrez.com
SUMMARY:Live Music Featuring Bow Tie Dance Band
DESCRIPTION:Are you ready for a Terrific Sunday at Shuckers Oyster Bar! \nCome early and bring your friends! Enjoy great food and have your favorite drink at Mississippi’s best oysters\, best live music venue and a place to dance – at Shuckers Oyster Bar! \nHeadliner: The Bow Tie Dance Band\nFeaturing Eddie Ingram-Bass Guitar & Vocals\, Gena Steele-Guitar & Vocals\, David Cummings-Drums & Vocals\, and Andy Joyce-Guitar & Vocals\nGenre: A Great Variety of Dance Music
URL:https://shuckersrez.com/event/live-music-featuring-bow-tie-dance-band-2/
ATTACH;FMTTYPE=image/jpeg:https://shuckersrez.com/wp-content/uploads/2026/04/04262026-Bow-Tie-Dance-Band.jpg
END:VEVENT
END:VCALENDAR